BEGIN:VCALENDAR
VERSION:2.0
PRODID:-//Plone.org//NONSGML plone.app.event//EN
X-WR-TIMEZONE:Europe/Madrid
BEGIN:VEVENT
SUMMARY:Evento de muestra
DTSTART;TZID=Europe/Madrid:20190527T130000
DTEND;TZID=Europe/Madrid:20200322T120000
DTSTAMP:20260421T020726Z
UID:24157f9934f445369fff7a1daacdd7c6@escgd.upc.edu
CONTACT:Responsable evento\, adreca@noreply.com
CREATED:20190527T114921Z
LAST-MODIFIED:20190527T114922Z
LOCATION:Lugar del evento
URL:https://escgd.upc.edu/es/eventos/evento-de-muestra
END:VEVENT
BEGIN:VTIMEZONE
TZID:Europe/Madrid
X-LIC-LOCATION:Europe/Madrid
BEGIN:DAYLIGHT
DTSTART:20190331T030000
TZNAME:CEST
TZOFFSETFROM:+0100
TZOFFSETTO:+0200
END:DAYLIGHT
BEGIN:STANDARD
DTSTART:20191027T020000
TZNAME:CET
TZOFFSETFROM:+0200
TZOFFSETTO:+0100
END:STANDARD
END:VTIMEZONE
END:VCALENDAR
